BEGIN:VCALENDAR
VERSION:2.0
PRODID:-//ChamberMaster//Event Calendar 2.0//EN
METHOD:PUBLISH
X-PUBLISHED-TTL:P3D
REFRESH-INTERVAL:P3D
CALSCALE:GREGORIAN
BEGIN:VEVENT
DTSTART:20170125T230000Z
DTEND:20170126T010000Z
X-MICROSOFT-CDO-ALLDAYEVENT:FALSE
SUMMARY:HETP: Information Session
DESCRIPTION:The HETP program provides culturally and linguistically appropriate business education and mentorship services for FREE.   \n\n\n\nThe twelve (12) week program will be comprised of two tracks\;\n\n\n	Entrepreneurs who are in the planning stage of their business\n	Entrepreneurs with existing businesses\n\n\nTaught by bilingual subject matter experts\, the program is a combination of in-class lectures and one-on-one mentoring with a business coach. Corporate sponsors will also host workshops designed to assist program participants with funding and skill sets that further enhance small business growth. This program is in partnership with Bergen Community College.
X-ALT-DESC;FMTTYPE=text/html:<div style="font-family: arial\;"><span style="font-family:arial\;">The HETP program provides culturally and linguistically appropriate business education and mentorship services for<strong>&nbsp\;FREE</strong>. &#8203\;&#8203\;<br />\n<br />\n<span style="font-size:14px\;">The twelve <strong>(12) week program </strong>will be comprised of two tracks\;</span></span></div>\n\n<ol>\n	<li style="font-family: arial\;"><span style="font-size:14px\;"><span style="font-family:arial\;"><span style="line-height: 1.6\;">Entrepreneurs who are in the planning stage of their business</span></span></span></li>\n	<li><span style="font-size:14px\;"><span style="font-family:arial\;">Entrepreneurs with existing businesses</span></span></li>\n</ol>\n\n<div><span style="font-size:14px\;"><span style="font-family:arial\;">Taught by bilingual subject matter experts\, the program is a combination of in-class lectures and one-on-one mentoring with a business coach. Corporate sponsors will also host workshops designed to assist program participants with funding and skill sets that further enhance small business growth. This program is in partnership with Bergen Community College.</span></span></div>\n
LOCATION:Bergen Community College at the Meadowlands 5th Floor 1280 Wall Street W Lyndhurst\, NJ 07071
UID:e.2857.48
SEQUENCE:3
DTSTAMP:20260423T183744Z
URL:http://shccnj.chambermaster.com/events/details/hetp-information-session-48
END:VEVENT

END:VCALENDAR
